BEGIN:VCALENDAR
PRODID:-//AT Content Types//AT Event//EN
VERSION:2.0
METHOD:PUBLISH
BEGIN:VEVENT
DTSTAMP:20260423T065731Z
CREATED:20190704T131208Z
UID:ATEvent-ff85f81d4fe94738a286958bfe76b04b
LAST-MODIFIED:20201118T225417Z
SUMMARY:YouthBeatz festival - Dumfries
DTSTART:20190622T090000Z
DTEND:20190623T190000Z
DESCRIPTION:Officers from the Children & Young People team in Safer Co
 mmunities will be attending this festival to engage with young people 
 and festival goers. As part of this engagement\, young people can answ
 er questions and provide feedback about the police which will be used 
 to develop our contact and engagement strategy.
CLASS:PUBLIC
END:VEVENT
END:VCALENDAR
