BEGIN:VCALENDAR
PRODID:-//AT Content Types//AT Event//EN
VERSION:2.0
METHOD:PUBLISH
BEGIN:VEVENT
DTSTAMP:20260423T070034Z
CREATED:20190704T131208Z
UID:ATEvent-6d5b60a53dc9447da8bec010cc04a42c
LAST-MODIFIED:20201118T225417Z
SUMMARY:TRNSMT - Glasgow
DTSTART:20190712T100000Z
DTEND:20190714T210000Z
DESCRIPTION:Officers from the Children & Young People team in Safer Co
 mmunities will be attending this festival to engage with young people 
 and festival goers. As part of this engagement\, young people can answ
 er questions and provide feedback about the police which will be used 
 to develop our contact and engagement strategy.
CLASS:PUBLIC
END:VEVENT
END:VCALENDAR
