BEGIN:VCALENDAR
PRODID:-//AT Content Types//AT Event//EN
VERSION:2.0
METHOD:PUBLISH
BEGIN:VEVENT
DTSTAMP:20260423T070121Z
CREATED:20190704T131208Z
UID:ATEvent-6a0040599ca84da194aaa06b0514f5d1
LAST-MODIFIED:20201118T225417Z
SUMMARY:Party at the Palace - Linlithgow
DTSTART:20190810T100000Z
DTEND:20190811T180000Z
DESCRIPTION:Officers from the Children & Young People team in Safer Co
 mmunities will be attending this festival to engage with young people 
 and festival goers. As part of this engagement\, young people can answ
 er questions and provide feedback about the police which will be used 
 to develop our contact and engagement strategy.
CLASS:PUBLIC
END:VEVENT
END:VCALENDAR
